BEGIN:VCALENDAR
VERSION:2.0
PRODID:-//St. Matthew&#039;s Episcopal Church - ECPv6.6.4//NONSGML v1.0//EN
CALSCALE:GREGORIAN
METHOD:PUBLISH
X-ORIGINAL-URL:https://stmatthewsbrecksville.digitalchurch.app
X-WR-CALDESC:Events for St. Matthew&#039;s Episcopal Church
REFRESH-INTERVAL;VALUE=DURATION:PT1H
X-Robots-Tag:noindex
X-PUBLISHED-TTL:PT1H
BEGIN:VTIMEZONE
TZID:America/New_York
BEGIN:DAYLIGHT
TZOFFSETFROM:-0500
TZOFFSETTO:-0400
TZNAME:EDT
DTSTART:20280312T070000
END:DAYLIGHT
BEGIN:STANDARD
TZOFFSETFROM:-0400
TZOFFSETTO:-0500
TZNAME:EST
DTSTART:20281105T060000
END:STANDARD
END:VTIMEZONE
BEGIN:VEVENT
DTSTART;TZID=America/New_York:20280305T083000
DTEND;TZID=America/New_York:20280305T083000
DTSTAMP:20260423T113158
CREATED:20240731T144956Z
LAST-MODIFIED:20240731T144956Z
UID:10001530-1835857800-1835857800@stmatthewsbrecksville.digitalchurch.app
SUMMARY:Worship Service
DESCRIPTION:
URL:https://stmatthewsbrecksville.digitalchurch.app/event/worship-service-4/2028-03-05/
LOCATION:St. Matthew’s Episcopal Church\, 9549 Highland Drive\, Brecksville\, OH\, 44141\, United States
CATEGORIES:Worship
END:VEVENT
BEGIN:VEVENT
DTSTART;TZID=America/New_York:20280305T100000
DTEND;TZID=America/New_York:20280305T100000
DTSTAMP:20260423T113158
CREATED:20240731T145240Z
LAST-MODIFIED:20240731T145240Z
UID:10001791-1835863200-1835863200@stmatthewsbrecksville.digitalchurch.app
SUMMARY:Worship Service
DESCRIPTION:
URL:https://stmatthewsbrecksville.digitalchurch.app/event/worship-service-5/2028-03-05/
LOCATION:St. Matthew’s Episcopal Church\, 9549 Highland Drive\, Brecksville\, OH\, 44141\, United States
CATEGORIES:Worship
END:VEVENT
BEGIN:VEVENT
DTSTART;TZID=America/New_York:20280306T170000
DTEND;TZID=America/New_York:20280306T210000
DTSTAMP:20260423T113158
CREATED:20240724T184402Z
LAST-MODIFIED:20240724T192022Z
UID:10000698-1835974800-1835989200@stmatthewsbrecksville.digitalchurch.app
SUMMARY:Shriners Drum Corps
DESCRIPTION:
URL:https://stmatthewsbrecksville.digitalchurch.app/event/shriners-drum-corps/2028-03-06/
LOCATION:St. Matthew’s Episcopal Church\, 9549 Highland Drive\, Brecksville\, OH\, 44141\, United States
CATEGORIES:Shriners
END:VEVENT
BEGIN:VEVENT
DTSTART;TZID=America/New_York:20280312T083000
DTEND;TZID=America/New_York:20280312T083000
DTSTAMP:20260423T113158
CREATED:20240731T144956Z
LAST-MODIFIED:20240731T144956Z
UID:10001531-1836462600-1836462600@stmatthewsbrecksville.digitalchurch.app
SUMMARY:Worship Service
DESCRIPTION:
URL:https://stmatthewsbrecksville.digitalchurch.app/event/worship-service-4/2028-03-12/
LOCATION:St. Matthew’s Episcopal Church\, 9549 Highland Drive\, Brecksville\, OH\, 44141\, United States
CATEGORIES:Worship
END:VEVENT
BEGIN:VEVENT
DTSTART;TZID=America/New_York:20280312T100000
DTEND;TZID=America/New_York:20280312T100000
DTSTAMP:20260423T113158
CREATED:20240731T145240Z
LAST-MODIFIED:20240731T145240Z
UID:10001792-1836468000-1836468000@stmatthewsbrecksville.digitalchurch.app
SUMMARY:Worship Service
DESCRIPTION:
URL:https://stmatthewsbrecksville.digitalchurch.app/event/worship-service-5/2028-03-12/
LOCATION:St. Matthew’s Episcopal Church\, 9549 Highland Drive\, Brecksville\, OH\, 44141\, United States
CATEGORIES:Worship
END:VEVENT
BEGIN:VEVENT
DTSTART;TZID=America/New_York:20280313T170000
DTEND;TZID=America/New_York:20280313T210000
DTSTAMP:20260423T113158
CREATED:20240724T184402Z
LAST-MODIFIED:20240724T192022Z
UID:10000699-1836579600-1836594000@stmatthewsbrecksville.digitalchurch.app
SUMMARY:Shriners Drum Corps
DESCRIPTION:
URL:https://stmatthewsbrecksville.digitalchurch.app/event/shriners-drum-corps/2028-03-13/
LOCATION:St. Matthew’s Episcopal Church\, 9549 Highland Drive\, Brecksville\, OH\, 44141\, United States
CATEGORIES:Shriners
END:VEVENT
BEGIN:VEVENT
DTSTART;TZID=America/New_York:20280319T083000
DTEND;TZID=America/New_York:20280319T083000
DTSTAMP:20260423T113158
CREATED:20240731T144956Z
LAST-MODIFIED:20240731T144956Z
UID:10001532-1837067400-1837067400@stmatthewsbrecksville.digitalchurch.app
SUMMARY:Worship Service
DESCRIPTION:
URL:https://stmatthewsbrecksville.digitalchurch.app/event/worship-service-4/2028-03-19/
LOCATION:St. Matthew’s Episcopal Church\, 9549 Highland Drive\, Brecksville\, OH\, 44141\, United States
CATEGORIES:Worship
END:VEVENT
BEGIN:VEVENT
DTSTART;TZID=America/New_York:20280319T100000
DTEND;TZID=America/New_York:20280319T100000
DTSTAMP:20260423T113158
CREATED:20240731T145240Z
LAST-MODIFIED:20240731T145240Z
UID:10001793-1837072800-1837072800@stmatthewsbrecksville.digitalchurch.app
SUMMARY:Worship Service
DESCRIPTION:
URL:https://stmatthewsbrecksville.digitalchurch.app/event/worship-service-5/2028-03-19/
LOCATION:St. Matthew’s Episcopal Church\, 9549 Highland Drive\, Brecksville\, OH\, 44141\, United States
CATEGORIES:Worship
END:VEVENT
BEGIN:VEVENT
DTSTART;TZID=America/New_York:20280320T170000
DTEND;TZID=America/New_York:20280320T210000
DTSTAMP:20260423T113158
CREATED:20240724T184402Z
LAST-MODIFIED:20240724T192022Z
UID:10000700-1837184400-1837198800@stmatthewsbrecksville.digitalchurch.app
SUMMARY:Shriners Drum Corps
DESCRIPTION:
URL:https://stmatthewsbrecksville.digitalchurch.app/event/shriners-drum-corps/2028-03-20/
LOCATION:St. Matthew’s Episcopal Church\, 9549 Highland Drive\, Brecksville\, OH\, 44141\, United States
CATEGORIES:Shriners
END:VEVENT
BEGIN:VEVENT
DTSTART;TZID=America/New_York:20280326T083000
DTEND;TZID=America/New_York:20280326T083000
DTSTAMP:20260423T113158
CREATED:20240731T144956Z
LAST-MODIFIED:20240731T144956Z
UID:10001533-1837672200-1837672200@stmatthewsbrecksville.digitalchurch.app
SUMMARY:Worship Service
DESCRIPTION:
URL:https://stmatthewsbrecksville.digitalchurch.app/event/worship-service-4/2028-03-26/
LOCATION:St. Matthew’s Episcopal Church\, 9549 Highland Drive\, Brecksville\, OH\, 44141\, United States
CATEGORIES:Worship
END:VEVENT
BEGIN:VEVENT
DTSTART;TZID=America/New_York:20280326T100000
DTEND;TZID=America/New_York:20280326T100000
DTSTAMP:20260423T113158
CREATED:20240731T145240Z
LAST-MODIFIED:20240731T145240Z
UID:10001794-1837677600-1837677600@stmatthewsbrecksville.digitalchurch.app
SUMMARY:Worship Service
DESCRIPTION:
URL:https://stmatthewsbrecksville.digitalchurch.app/event/worship-service-5/2028-03-26/
LOCATION:St. Matthew’s Episcopal Church\, 9549 Highland Drive\, Brecksville\, OH\, 44141\, United States
CATEGORIES:Worship
END:VEVENT
BEGIN:VEVENT
DTSTART;TZID=America/New_York:20280327T180000
DTEND;TZID=America/New_York:20280327T210000
DTSTAMP:20260423T113158
CREATED:20240724T184002Z
LAST-MODIFIED:20240724T191716Z
UID:10000478-1837792800-1837803600@stmatthewsbrecksville.digitalchurch.app
SUMMARY:Shriners Legion of Honor
DESCRIPTION:
URL:https://stmatthewsbrecksville.digitalchurch.app/event/shriners-legion-of-honor/2028-03-27/
LOCATION:St. Matthew’s Episcopal Church\, 9549 Highland Drive\, Brecksville\, OH\, 44141\, United States
CATEGORIES:Shriners
END:VEVENT
BEGIN:VEVENT
DTSTART;TZID=America/New_York:20280329T170000
DTEND;TZID=America/New_York:20280329T210000
DTSTAMP:20260423T113158
CREATED:20240724T184122Z
LAST-MODIFIED:20240724T191853Z
UID:10000538-1837962000-1837976400@stmatthewsbrecksville.digitalchurch.app
SUMMARY:Shriners Hillbillies
DESCRIPTION:
URL:https://stmatthewsbrecksville.digitalchurch.app/event/shriners-hillbillies/2028-03-29/
LOCATION:St. Matthew’s Episcopal Church\, 9549 Highland Drive\, Brecksville\, OH\, 44141\, United States
CATEGORIES:Shriners
END:VEVENT
END:VCALENDAR