BEGIN:VCALENDAR
VERSION:2.0
PRODID:-//St. Matthew&#039;s Episcopal Church - ECPv6.6.4//NONSGML v1.0//EN
CALSCALE:GREGORIAN
METHOD:PUBLISH
X-WR-CALNAME:St. Matthew&#039;s Episcopal Church
X-ORIGINAL-URL:https://stmatthewsbrecksville.digitalchurch.app
X-WR-CALDESC:Events for St. Matthew&#039;s Episcopal Church
REFRESH-INTERVAL;VALUE=DURATION:PT1H
X-Robots-Tag:noindex
X-PUBLISHED-TTL:PT1H
BEGIN:VTIMEZONE
TZID:America/New_York
BEGIN:DAYLIGHT
TZOFFSETFROM:-0500
TZOFFSETTO:-0400
TZNAME:EDT
DTSTART:20260308T070000
END:DAYLIGHT
BEGIN:STANDARD
TZOFFSETFROM:-0400
TZOFFSETTO:-0500
TZNAME:EST
DTSTART:20261101T060000
END:STANDARD
END:VTIMEZONE
BEGIN:VEVENT
DTSTART;TZID=America/New_York:20260503T083000
DTEND;TZID=America/New_York:20260503T083000
DTSTAMP:20260419T200247
CREATED:20240731T144956Z
LAST-MODIFIED:20240731T144956Z
UID:10001434-1777797000-1777797000@stmatthewsbrecksville.digitalchurch.app
SUMMARY:Worship Service
DESCRIPTION:
URL:https://stmatthewsbrecksville.digitalchurch.app/event/worship-service-4/2026-05-03/
LOCATION:St. Matthew’s Episcopal Church\, 9549 Highland Drive\, Brecksville\, OH\, 44141\, United States
CATEGORIES:Worship
END:VEVENT
BEGIN:VEVENT
DTSTART;TZID=America/New_York:20260503T100000
DTEND;TZID=America/New_York:20260503T100000
DTSTAMP:20260419T200247
CREATED:20240731T145240Z
LAST-MODIFIED:20240731T145240Z
UID:10001695-1777802400-1777802400@stmatthewsbrecksville.digitalchurch.app
SUMMARY:Worship Service
DESCRIPTION:
URL:https://stmatthewsbrecksville.digitalchurch.app/event/worship-service-5/2026-05-03/
LOCATION:St. Matthew’s Episcopal Church\, 9549 Highland Drive\, Brecksville\, OH\, 44141\, United States
CATEGORIES:Worship
END:VEVENT
BEGIN:VEVENT
DTSTART;TZID=America/New_York:20260504T170000
DTEND;TZID=America/New_York:20260504T210000
DTSTAMP:20260419T200247
CREATED:20240724T184402Z
LAST-MODIFIED:20240724T192022Z
UID:10000624-1777914000-1777928400@stmatthewsbrecksville.digitalchurch.app
SUMMARY:Shriners Drum Corps
DESCRIPTION:
URL:https://stmatthewsbrecksville.digitalchurch.app/event/shriners-drum-corps/2026-05-04/
LOCATION:St. Matthew’s Episcopal Church\, 9549 Highland Drive\, Brecksville\, OH\, 44141\, United States
CATEGORIES:Shriners
END:VEVENT
BEGIN:VEVENT
DTSTART;TZID=America/New_York:20260510T083000
DTEND;TZID=America/New_York:20260510T083000
DTSTAMP:20260419T200247
CREATED:20240731T144956Z
LAST-MODIFIED:20240731T144956Z
UID:10001435-1778401800-1778401800@stmatthewsbrecksville.digitalchurch.app
SUMMARY:Worship Service
DESCRIPTION:
URL:https://stmatthewsbrecksville.digitalchurch.app/event/worship-service-4/2026-05-10/
LOCATION:St. Matthew’s Episcopal Church\, 9549 Highland Drive\, Brecksville\, OH\, 44141\, United States
CATEGORIES:Worship
END:VEVENT
BEGIN:VEVENT
DTSTART;TZID=America/New_York:20260510T100000
DTEND;TZID=America/New_York:20260510T100000
DTSTAMP:20260419T200247
CREATED:20240731T145240Z
LAST-MODIFIED:20240731T145240Z
UID:10001696-1778407200-1778407200@stmatthewsbrecksville.digitalchurch.app
SUMMARY:Worship Service
DESCRIPTION:
URL:https://stmatthewsbrecksville.digitalchurch.app/event/worship-service-5/2026-05-10/
LOCATION:St. Matthew’s Episcopal Church\, 9549 Highland Drive\, Brecksville\, OH\, 44141\, United States
CATEGORIES:Worship
END:VEVENT
BEGIN:VEVENT
DTSTART;TZID=America/New_York:20260511T170000
DTEND;TZID=America/New_York:20260511T210000
DTSTAMP:20260419T200247
CREATED:20240724T184402Z
LAST-MODIFIED:20240724T192022Z
UID:10000625-1778518800-1778533200@stmatthewsbrecksville.digitalchurch.app
SUMMARY:Shriners Drum Corps
DESCRIPTION:
URL:https://stmatthewsbrecksville.digitalchurch.app/event/shriners-drum-corps/2026-05-11/
LOCATION:St. Matthew’s Episcopal Church\, 9549 Highland Drive\, Brecksville\, OH\, 44141\, United States
CATEGORIES:Shriners
END:VEVENT
BEGIN:VEVENT
DTSTART;TZID=America/New_York:20260517T083000
DTEND;TZID=America/New_York:20260517T083000
DTSTAMP:20260419T200247
CREATED:20240731T144956Z
LAST-MODIFIED:20240731T144956Z
UID:10001436-1779006600-1779006600@stmatthewsbrecksville.digitalchurch.app
SUMMARY:Worship Service
DESCRIPTION:
URL:https://stmatthewsbrecksville.digitalchurch.app/event/worship-service-4/2026-05-17/
LOCATION:St. Matthew’s Episcopal Church\, 9549 Highland Drive\, Brecksville\, OH\, 44141\, United States
CATEGORIES:Worship
END:VEVENT
BEGIN:VEVENT
DTSTART;TZID=America/New_York:20260517T100000
DTEND;TZID=America/New_York:20260517T100000
DTSTAMP:20260419T200247
CREATED:20240731T145240Z
LAST-MODIFIED:20240731T145240Z
UID:10001697-1779012000-1779012000@stmatthewsbrecksville.digitalchurch.app
SUMMARY:Worship Service
DESCRIPTION:
URL:https://stmatthewsbrecksville.digitalchurch.app/event/worship-service-5/2026-05-17/
LOCATION:St. Matthew’s Episcopal Church\, 9549 Highland Drive\, Brecksville\, OH\, 44141\, United States
CATEGORIES:Worship
END:VEVENT
BEGIN:VEVENT
DTSTART;TZID=America/New_York:20260518T170000
DTEND;TZID=America/New_York:20260518T210000
DTSTAMP:20260419T200247
CREATED:20240724T184402Z
LAST-MODIFIED:20240724T192022Z
UID:10000626-1779123600-1779138000@stmatthewsbrecksville.digitalchurch.app
SUMMARY:Shriners Drum Corps
DESCRIPTION:
URL:https://stmatthewsbrecksville.digitalchurch.app/event/shriners-drum-corps/2026-05-18/
LOCATION:St. Matthew’s Episcopal Church\, 9549 Highland Drive\, Brecksville\, OH\, 44141\, United States
CATEGORIES:Shriners
END:VEVENT
BEGIN:VEVENT
DTSTART;TZID=America/New_York:20260524T083000
DTEND;TZID=America/New_York:20260524T083000
DTSTAMP:20260419T200247
CREATED:20240731T144956Z
LAST-MODIFIED:20240731T144956Z
UID:10001437-1779611400-1779611400@stmatthewsbrecksville.digitalchurch.app
SUMMARY:Worship Service
DESCRIPTION:
URL:https://stmatthewsbrecksville.digitalchurch.app/event/worship-service-4/2026-05-24/
LOCATION:St. Matthew’s Episcopal Church\, 9549 Highland Drive\, Brecksville\, OH\, 44141\, United States
CATEGORIES:Worship
END:VEVENT
BEGIN:VEVENT
DTSTART;TZID=America/New_York:20260524T100000
DTEND;TZID=America/New_York:20260524T100000
DTSTAMP:20260419T200247
CREATED:20240731T145240Z
LAST-MODIFIED:20240731T145240Z
UID:10001698-1779616800-1779616800@stmatthewsbrecksville.digitalchurch.app
SUMMARY:Worship Service
DESCRIPTION:
URL:https://stmatthewsbrecksville.digitalchurch.app/event/worship-service-5/2026-05-24/
LOCATION:St. Matthew’s Episcopal Church\, 9549 Highland Drive\, Brecksville\, OH\, 44141\, United States
CATEGORIES:Worship
END:VEVENT
BEGIN:VEVENT
DTSTART;TZID=America/New_York:20260525T180000
DTEND;TZID=America/New_York:20260525T210000
DTSTAMP:20260419T200247
CREATED:20240724T184002Z
LAST-MODIFIED:20240724T191716Z
UID:10000456-1779732000-1779742800@stmatthewsbrecksville.digitalchurch.app
SUMMARY:Shriners Legion of Honor
DESCRIPTION:
URL:https://stmatthewsbrecksville.digitalchurch.app/event/shriners-legion-of-honor/2026-05-25/
LOCATION:St. Matthew’s Episcopal Church\, 9549 Highland Drive\, Brecksville\, OH\, 44141\, United States
CATEGORIES:Shriners
END:VEVENT
BEGIN:VEVENT
DTSTART;TZID=America/New_York:20260527T170000
DTEND;TZID=America/New_York:20260527T210000
DTSTAMP:20260419T200247
CREATED:20240724T184122Z
LAST-MODIFIED:20240724T191853Z
UID:10000516-1779901200-1779915600@stmatthewsbrecksville.digitalchurch.app
SUMMARY:Shriners Hillbillies
DESCRIPTION:
URL:https://stmatthewsbrecksville.digitalchurch.app/event/shriners-hillbillies/2026-05-27/
LOCATION:St. Matthew’s Episcopal Church\, 9549 Highland Drive\, Brecksville\, OH\, 44141\, United States
CATEGORIES:Shriners
END:VEVENT
BEGIN:VEVENT
DTSTART;TZID=America/New_York:20260531T083000
DTEND;TZID=America/New_York:20260531T083000
DTSTAMP:20260419T200247
CREATED:20240731T144956Z
LAST-MODIFIED:20240731T144956Z
UID:10001438-1780216200-1780216200@stmatthewsbrecksville.digitalchurch.app
SUMMARY:Worship Service
DESCRIPTION:
URL:https://stmatthewsbrecksville.digitalchurch.app/event/worship-service-4/2026-05-31/
LOCATION:St. Matthew’s Episcopal Church\, 9549 Highland Drive\, Brecksville\, OH\, 44141\, United States
CATEGORIES:Worship
END:VEVENT
BEGIN:VEVENT
DTSTART;TZID=America/New_York:20260531T100000
DTEND;TZID=America/New_York:20260531T100000
DTSTAMP:20260419T200247
CREATED:20240731T145240Z
LAST-MODIFIED:20240731T145240Z
UID:10001699-1780221600-1780221600@stmatthewsbrecksville.digitalchurch.app
SUMMARY:Worship Service
DESCRIPTION:
URL:https://stmatthewsbrecksville.digitalchurch.app/event/worship-service-5/2026-05-31/
LOCATION:St. Matthew’s Episcopal Church\, 9549 Highland Drive\, Brecksville\, OH\, 44141\, United States
CATEGORIES:Worship
END:VEVENT
END:VCALENDAR